BEGIN:VCALENDAR
VERSION:2.0
PRODID:-//Kids Central, Inc. - ECPv6.15.20//NONSGML v1.0//EN
CALSCALE:GREGORIAN
METHOD:PUBLISH
X-WR-CALNAME:Kids Central, Inc.
X-ORIGINAL-URL:https://kidscentral.site2025.strikegold.com
X-WR-CALDESC:Events for Kids Central, Inc.
REFRESH-INTERVAL;VALUE=DURATION:PT1H
X-Robots-Tag:noindex
X-PUBLISHED-TTL:PT1H
BEGIN:VTIMEZONE
TZID:America/New_York
BEGIN:DAYLIGHT
TZOFFSETFROM:-0500
TZOFFSETTO:-0400
TZNAME:EDT
DTSTART:20250309T070000
END:DAYLIGHT
BEGIN:STANDARD
TZOFFSETFROM:-0400
TZOFFSETTO:-0500
TZNAME:EST
DTSTART:20251102T060000
END:STANDARD
BEGIN:DAYLIGHT
TZOFFSETFROM:-0500
TZOFFSETTO:-0400
TZNAME:EDT
DTSTART:20260308T070000
END:DAYLIGHT
BEGIN:STANDARD
TZOFFSETFROM:-0400
TZOFFSETTO:-0500
TZNAME:EST
DTSTART:20261101T060000
END:STANDARD
BEGIN:DAYLIGHT
TZOFFSETFROM:-0500
TZOFFSETTO:-0400
TZNAME:EDT
DTSTART:20270314T070000
END:DAYLIGHT
BEGIN:STANDARD
TZOFFSETFROM:-0400
TZOFFSETTO:-0500
TZNAME:EST
DTSTART:20271107T060000
END:STANDARD
END:VTIMEZONE
BEGIN:VEVENT
DTSTART;TZID=America/New_York:20260227T190000
DTEND;TZID=America/New_York:20260227T190000
DTSTAMP:20260423T073311
CREATED:20251030T181920Z
LAST-MODIFIED:20260217T041033Z
UID:10000001-1772218800-1772218800@kidscentral.site2025.strikegold.com
SUMMARY:Boot Scootin' Boogie 2026
DESCRIPTION:Dust off your boots for an evening of countrified fun benefiting abused and neglected children in our community! Tickets are regularly priced at $75\, or do-si-do into savings with two tickets for just $125. \n\nFeaturing line-dancing\, country music\, food\, and fellowship\nOld West tavern-style card and slot games\nA chance to bid on fabulous prizes\n\nPlease contact Kimberly McGlothern at 352.387.3426 to learn more about this event\, or to become a sponsor.
URL:https://kidscentral.site2025.strikegold.com/event/boot-scootin-boogie-2026/
LOCATION:Ocala Downtown Market\, 403 SE Osceola Ave\, Ocala\, FL\, 34471\, United States
CATEGORIES:Fundraiser
ATTACH;FMTTYPE=image/jpeg:https://kidscentral.site2025.strikegold.com/wp-content/uploads/2025/10/KID_BootScootinBoogie_2026_WebCalendarHeader.jpg
ORGANIZER;CN="Kimberly McGlothern":MAILTO:Kimberly.McGlothern@kidscentralinc.org
END:VEVENT
END:VCALENDAR